BEGIN:VCALENDAR
VERSION:2.0
PRODID:-//Paroisse Saint Augustin - ECPv6.2.2//NONSGML v1.0//EN
CALSCALE:GREGORIAN
METHOD:PUBLISH
X-ORIGINAL-URL:https://chalons.catholique.fr/saintaugustin
X-WR-CALDESC:évènements pour Paroisse Saint Augustin
REFRESH-INTERVAL;VALUE=DURATION:PT1H
X-Robots-Tag:noindex
X-PUBLISHED-TTL:PT1H
BEGIN:VTIMEZONE
TZID:Europe/Paris
BEGIN:DAYLIGHT
TZOFFSETFROM:+0100
TZOFFSETTO:+0200
TZNAME:CEST
DTSTART:20180325T010000
END:DAYLIGHT
BEGIN:STANDARD
TZOFFSETFROM:+0200
TZOFFSETTO:+0100
TZNAME:CET
DTSTART:20181028T010000
END:STANDARD
END:VTIMEZONE
BEGIN:VEVENT
DTSTART;TZID=Europe/Paris:20180111T110000
DTEND;TZID=Europe/Paris:20180111T120000
DTSTAMP:20260420T002939
CREATED:20180107T153935Z
LAST-MODIFIED:20180107T153935Z
UID:3130-1515668400-1515672000@chalons.catholique.fr
SUMMARY:Pas de messe à la chapelle
DESCRIPTION:
URL:https://chalons.catholique.fr/saintaugustin/event/pas-de-messe-a-la-chapelle-2/
LOCATION:CHAPELLE SAINT AUGUSTIN\, 48\, Rue des martyres de la résistances\, Fére Champenoise\, 51230\, France
END:VEVENT
END:VCALENDAR